BEGIN:VCALENDAR
VERSION:2.0
PRODID:-//pretix//pretix.eu//
BEGIN:VTIMEZONE
TZID:Europe/Berlin
BEGIN:STANDARD
DTSTART:20001029T040000
RRULE:FREQ=YEARLY;BYDAY=-1SU;BYMONTH=10
TZNAME:CET
TZOFFSETFROM:+0200
TZOFFSETTO:+0100
END:STANDARD
BEGIN:DAYLIGHT
DTSTART:20000326T030000
RRULE:FREQ=YEARLY;BYDAY=-1SU;BYMONTH=3
TZNAME:CEST
TZOFFSETFROM:+0100
TZOFFSETTO:+0200
END:DAYLIGHT
END:VTIMEZONE
BEGIN:VEVENT
UID:pretix-bricksnbytes-73ps9-2-4769895@shop.bricksnbytes.de
DTSTART;TZID=Europe/Berlin:20260627T140000
DTEND;TZID=Europe/Berlin:20260627T160000
DESCRIPTION:Tickets: https://shop.bricksnbytes.de/73ps9-2/4769895/\nVeranst
 alter: BricksnBytes
DTSTAMP:20260420T065843Z
LOCATION:Jörg-Hube-Straße 105\, 81927 München
SUMMARY:Programmierworkshop mit LEGO Spike im Prinz-Eugen-Park
END:VEVENT
END:VCALENDAR
