BEGIN:VCALENDAR
VERSION:2.0
PRODID:-//pretix//pretix.eu//
BEGIN:VTIMEZONE
TZID:Europe/Berlin
BEGIN:STANDARD
DTSTART:20001029T040000
RRULE:FREQ=YEARLY;BYDAY=-1SU;BYMONTH=10
TZNAME:CET
TZOFFSETFROM:+0200
TZOFFSETTO:+0100
END:STANDARD
BEGIN:DAYLIGHT
DTSTART:20000326T030000
RRULE:FREQ=YEARLY;BYDAY=-1SU;BYMONTH=3
TZNAME:CEST
TZOFFSETFROM:+0100
TZOFFSETTO:+0200
END:DAYLIGHT
END:VTIMEZONE
BEGIN:VEVENT
UID:pretix-bricksnbytes-73ps9-4904685@shop.bricksnbytes.de
DTSTART;TZID=Europe/Berlin:20261102T093000
DTEND;TZID=Europe/Berlin:20261102T160000
DESCRIPTION:Tickets: https://shop.bricksnbytes.de/73ps9/4904685/\nEinlass: 
 02.11.2026 09:30\nVeranstalter: BricksnBytes
DTSTAMP:20260420T064133Z
LOCATION:Familienzentrum Allach\, St.-Johann-Straße 26\, 80999 München
SUMMARY:Ferienkurs „Programmieren mit LEGO und Cubetto“ in Allach
END:VEVENT
END:VCALENDAR
