BEGIN:VCALENDAR
VERSION:2.0
PRODID:-//pretix//pretix.eu//
BEGIN:VTIMEZONE
TZID:Europe/Berlin
BEGIN:STANDARD
DTSTART:20001029T040000
RRULE:FREQ=YEARLY;BYDAY=-1SU;BYMONTH=10
TZNAME:CET
TZOFFSETFROM:+0200
TZOFFSETTO:+0100
END:STANDARD
BEGIN:DAYLIGHT
DTSTART:20000326T030000
RRULE:FREQ=YEARLY;BYDAY=-1SU;BYMONTH=3
TZNAME:CEST
TZOFFSETFROM:+0100
TZOFFSETTO:+0200
END:DAYLIGHT
END:VTIMEZONE
BEGIN:VEVENT
UID:pretix-bricksnbytes-9n7m8-4769905@shop.bricksnbytes.de
DTSTART;TZID=Europe/Berlin:20260425T110000
DTEND;TZID=Europe/Berlin:20260425T130000
DESCRIPTION:Tickets: https://shop.bricksnbytes.de/9n7m8/4769905/\nVeranstal
 ter: BricksnBytes
DTSTAMP:20260420T065746Z
LOCATION:Familienzentrum Allach\, St.-Johann-Straße 26\, 80999 München
SUMMARY:Medienführerschein - sicher im Internet - in Allach 6-10 Jahre
END:VEVENT
END:VCALENDAR
